BEGIN:VCALENDAR
VERSION:2.0
PRODID:-//Tukios.com/
BEGIN:VEVENT
UID:28ee3412-fc9b-4ec8-af89-693f3b1a4094@www.archerfuneralhome.com
DTSTAMP:20260424T165256Z
DTSTART:20260502T180000Z
DTEND:20260502T200000Z
SUMMARY:Celebration of Life
DESCRIPTION:
URL:https://www.archerfuneralhome.com/obituaries/william-shadd
LOCATION: 55 N Lake Ave  Lake Butler FL 32054
GEO:30.0233848;-82.3370929
END:VEVENT
END:VCALENDAR