BEGIN:VCALENDAR
VERSION:2.0
PRODID:-//Tukios.com/
BEGIN:VEVENT
UID:1f6c7ffd-fca4-4dea-b766-d6623469fcb9@www.archerfuneralhome.com
DTSTAMP:20260422T162846Z
DTSTART:20260423
SUMMARY:Graveside Service
DESCRIPTION:immediately following the service
URL:https://www.archerfuneralhome.com/obituaries/betty-bagley
LOCATION: 10888 NW 87th Pl  Lake Butler FL 32054
GEO:30.0373748;-82.4763545
END:VEVENT
END:VCALENDAR