BEGIN:VCALENDAR
VERSION:2.0
PRODID:-//Tukios.com/
BEGIN:VEVENT
UID:6b021c20-0e3f-4935-87a6-09a9aff5ca94@www.archerfuneralhome.com
DTSTAMP:20260422T162059Z
DTSTART:20260423T170000Z
DTEND:20260423T180000Z
SUMMARY:Funeral Service
DESCRIPTION:
URL:https://www.archerfuneralhome.com/obituaries/betty-bagley
LOCATION: 14970 W State Rd 238  Lake Butler FL 32054
GEO:30.0201102;-82.3718444
END:VEVENT
END:VCALENDAR