BEGIN:VCALENDAR
VERSION:2.0
PRODID:-//Tukios.com/
BEGIN:VEVENT
UID:cb065510-7f71-4fea-88f4-78a2f0637c34@www.archerfuneralhome.com
DTSTAMP:20260422T162133Z
DTSTART:20260423T160000Z
DTEND:20260423T170000Z
SUMMARY:Visitation
DESCRIPTION:
URL:https://www.archerfuneralhome.com/obituaries/betty-bagley
LOCATION: 14970 W State Rd 238  Lake Butler FL 32054
GEO:30.0201102;-82.3718444
END:VEVENT
END:VCALENDAR